Package: batchCorr Version: 1.0.0 Command: /home/biocbuild/bbs-3.22-bioc/R/bin/R CMD check --install=check:batchCorr.install-out.txt --library=/home/biocbuild/bbs-3.22-bioc/R/site-library --timings batchCorr_1.0.0.tar.gz StartedAt: 2025-11-06 21:16:33 -0500 (Thu, 06 Nov 2025) EndedAt: 2025-11-06 21:24:01 -0500 (Thu, 06 Nov 2025) EllapsedTime: 448.0 seconds RetCode: 0 Status: OK CheckDir: batchCorr.Rcheck Warnings: 0