Package: batchCorr Version: 1.0.0 Command: /Library/Frameworks/R.framework/Resources/bin/R CMD check --install=check:batchCorr.install-out.txt --library=/Library/Frameworks/R.framework/Resources/library --no-vignettes --timings batchCorr_1.0.0.tar.gz StartedAt: 2025-11-03 19:37:45 -0500 (Mon, 03 Nov 2025) EndedAt: 2025-11-03 19:44:23 -0500 (Mon, 03 Nov 2025) EllapsedTime: 398.6 seconds RetCode: 0 Status: OK CheckDir: batchCorr.Rcheck Warnings: 0