Package: basilisk Version: 1.21.5 Command: /home/biocbuild/R/R/bin/R CMD check --install=check:basilisk.install-out.txt --library=/home/biocbuild/R/R/site-library --no-vignettes --timings basilisk_1.21.5.tar.gz StartedAt: 2025-10-21 04:42:32 -0000 (Tue, 21 Oct 2025) EndedAt: 2025-10-21 04:51:57 -0000 (Tue, 21 Oct 2025) EllapsedTime: 564.3 seconds RetCode: 0 Status: OK CheckDir: basilisk.Rcheck Warnings: 0