Package: basilisk Version: 1.21.5 Command: F:\biocbuild\bbs-3.22-bioc\R\bin\R.exe CMD check --no-multiarch --install=check:basilisk.install-out.txt --library=F:\biocbuild\bbs-3.22-bioc\R\library --no-vignettes --timings basilisk_1.21.5.tar.gz StartedAt: 2025-08-15 00:42:21 -0400 (Fri, 15 Aug 2025) EndedAt: 2025-08-15 01:14:42 -0400 (Fri, 15 Aug 2025) EllapsedTime: 1940.8 seconds RetCode: 0 Status: OK CheckDir: basilisk.Rcheck Warnings: 0