Package: basilisk.utils Version: 1.22.0 Command: /home/biocbuild/R/R/bin/R CMD check --install=check:basilisk.utils.install-out.txt --library=/home/biocbuild/R/R/site-library --no-vignettes --timings basilisk.utils_1.22.0.tar.gz StartedAt: 2025-11-11 07:13:52 -0000 (Tue, 11 Nov 2025) EndedAt: 2025-11-11 07:16:04 -0000 (Tue, 11 Nov 2025) EllapsedTime: 132.1 seconds RetCode: 0 Status: OK CheckDir: basilisk.utils.Rcheck Warnings: 0