Package: basilisk.utils Version: 1.22.0 Command: /home/biocbuild/bbs-3.22-bioc/R/bin/R CMD INSTALL basilisk.utils StartedAt: 2025-11-10 15:09:04 -0500 (Mon, 10 Nov 2025) EndedAt: 2025-11-10 15:09:14 -0500 (Mon, 10 Nov 2025) EllapsedTime: 10.0 seconds RetCode: 0 Status: OK