Package: basilisk.utils Version: 1.22.0 Command: /home/biocbuild/bbs-3.22-bioc/R/bin/R CMD build --keep-empty-dirs --no-resave-data --md5 basilisk.utils StartedAt: 2025-11-10 16:26:43 -0500 (Mon, 10 Nov 2025) EndedAt: 2025-11-10 16:26:47 -0500 (Mon, 10 Nov 2025) EllapsedTime: 4.0 seconds RetCode: 0 Status: OK PackageFile: basilisk.utils_1.22.0.tar.gz PackageFileSize: 229.7 KiB