Package: basecallQC Version: 1.32.0 Command: /home/biocbuild/bbs-3.21-bioc/R/bin/R CMD check --install=check:basecallQC.install-out.txt --library=/home/biocbuild/bbs-3.21-bioc/R/site-library --timings basecallQC_1.32.0.tar.gz StartedAt: 2025-10-01 21:01:29 -0400 (Wed, 01 Oct 2025) EndedAt: 2025-10-01 21:09:06 -0400 (Wed, 01 Oct 2025) EllapsedTime: 456.4 seconds RetCode: 0 Status: OK CheckDir: basecallQC.Rcheck Warnings: 0