Package: basecallQC Version: 1.32.0 Command: /Library/Frameworks/R.framework/Resources/bin/R CMD INSTALL basecallQC StartedAt: 2025-10-06 18:03:32 -0400 (Mon, 06 Oct 2025) EndedAt: 2025-10-06 18:04:34 -0400 (Mon, 06 Oct 2025) EllapsedTime: 62.5 seconds RetCode: 0 Status: OK