Package: basecallQC Version: 1.32.0 Command: /Library/Frameworks/R.framework/Resources/bin/R CMD check --install=check:basecallQC.install-out.txt --library=/Library/Frameworks/R.framework/Resources/library --no-vignettes --timings basecallQC_1.32.0.tar.gz StartedAt: 2025-10-07 14:16:49 -0400 (Tue, 07 Oct 2025) EndedAt: 2025-10-07 14:25:53 -0400 (Tue, 07 Oct 2025) EllapsedTime: 544.1 seconds RetCode: 0 Status: OK CheckDir: basecallQC.Rcheck Warnings: 0