Package: basecallQC Version: 1.32.0 Command: /Library/Frameworks/R.framework/Resources/bin/R CMD build --keep-empty-dirs --no-resave-data basecallQC StartedAt: 2025-10-06 19:42:15 -0400 (Mon, 06 Oct 2025) EndedAt: 2025-10-06 19:43:57 -0400 (Mon, 06 Oct 2025) EllapsedTime: 102.9 seconds RetCode: 0 Status: OK PackageFile: basecallQC_1.32.0.tar.gz PackageFileSize: 1.526 MiB