Package: barbieQ Version: 1.1.2 Command: F:\biocbuild\bbs-3.22-bioc\R\bin\R.exe CMD check --no-multiarch --install=check:barbieQ.install-out.txt --library=F:\biocbuild\bbs-3.22-bioc\R\library --no-vignettes --timings barbieQ_1.1.2.tar.gz StartedAt: 2025-08-15 00:39:51 -0400 (Fri, 15 Aug 2025) EndedAt: 2025-08-15 00:44:40 -0400 (Fri, 15 Aug 2025) EllapsedTime: 289.3 seconds RetCode: 0 Status: OK CheckDir: barbieQ.Rcheck Warnings: 0