Package: barbieQ Version: 1.1.2 Command: chmod a+r barbieQ -R && F:\biocbuild\bbs-3.22-bioc\R\bin\R.exe CMD build --keep-empty-dirs --no-resave-data barbieQ StartedAt: 2025-08-14 18:33:15 -0400 (Thu, 14 Aug 2025) EndedAt: 2025-08-14 18:41:55 -0400 (Thu, 14 Aug 2025) EllapsedTime: 520.1 seconds RetCode: 0 Status: OK PackageFile: barbieQ_1.1.2.tar.gz PackageFileSize: 3.501 MiB