Package: barbieQ Version: 1.0.1 Command: E:\biocbuild\bbs-3.21-bioc\R\bin\R.exe CMD check --no-multiarch --install=check:barbieQ.install-out.txt --library=E:\biocbuild\bbs-3.21-bioc\R\library --no-vignettes --timings barbieQ_1.0.1.tar.gz StartedAt: 2025-08-14 23:35:34 -0400 (Thu, 14 Aug 2025) EndedAt: 2025-08-14 23:40:22 -0400 (Thu, 14 Aug 2025) EllapsedTime: 288.7 seconds RetCode: 0 Status: OK CheckDir: barbieQ.Rcheck Warnings: 0