Package: banocc Version: 1.34.0 Command: /Library/Frameworks/R.framework/Resources/bin/R CMD check --install=check:banocc.install-out.txt --library=/Library/Frameworks/R.framework/Resources/library --no-vignettes --timings banocc_1.34.0.tar.gz StartedAt: 2025-11-05 19:04:05 -0500 (Wed, 05 Nov 2025) EndedAt: 2025-11-05 19:04:51 -0500 (Wed, 05 Nov 2025) EllapsedTime: 46.5 seconds RetCode: 0 Status: OK CheckDir: banocc.Rcheck Warnings: 0