Package: banocc Version: 1.34.0 Command: rm -rf banocc.buildbin-libdir && mkdir banocc.buildbin-libdir && /Users/biocbuild/BBS/utils/build-universal.sh banocc_1.34.0.tar.gz /Library/Frameworks/R.framework/Resources/bin/R banocc.buildbin-libdir StartedAt: 2025-10-31 22:58:36 -0400 (Fri, 31 Oct 2025) EndedAt: 2025-10-31 22:58:41 -0400 (Fri, 31 Oct 2025) EllapsedTime: 5.1 seconds RetCode: 0 Status: OK PackageFile: banocc_1.34.0.tgz PackageFileSize: 1.489 MiB