Package: bandle Version: 1.12.0 Command: /Library/Frameworks/R.framework/Resources/bin/R CMD build --keep-empty-dirs --no-resave-data bandle StartedAt: 2025-10-13 19:27:33 -0400 (Mon, 13 Oct 2025) EndedAt: 2025-10-13 19:32:19 -0400 (Mon, 13 Oct 2025) EllapsedTime: 286.4 seconds RetCode: 0 Status: OK PackageFile: bandle_1.12.0.tar.gz PackageFileSize: 4.199 MiB