Package: bambu Version: 3.10.1 Command: E:\biocbuild\bbs-3.21-bioc\R\bin\R.exe CMD check --no-multiarch --install=check:bambu.install-out.txt --library=E:\biocbuild\bbs-3.21-bioc\R\library --no-vignettes --timings bambu_3.10.1.tar.gz StartedAt: 2025-08-14 23:34:08 -0400 (Thu, 14 Aug 2025) EndedAt: 2025-08-14 23:43:39 -0400 (Thu, 14 Aug 2025) EllapsedTime: 571.2 seconds RetCode: 0 Status: OK CheckDir: bambu.Rcheck Warnings: 0