Package: bambu Version: 3.10.1 Command: chmod a+r bambu -R && E:\biocbuild\bbs-3.21-bioc\R\bin\R.exe CMD build --keep-empty-dirs --no-resave-data bambu StartedAt: 2025-08-14 17:26:42 -0400 (Thu, 14 Aug 2025) EndedAt: 2025-08-14 17:44:18 -0400 (Thu, 14 Aug 2025) EllapsedTime: 1055.6 seconds RetCode: 0 Status: OK PackageFile: bambu_3.10.1.tar.gz PackageFileSize: 2.048 MiB