Package: bambu Version: 3.10.1 Command: rm -rf bambu.buildbin-libdir && mkdir bambu.buildbin-libdir && E:\biocbuild\bbs-3.21-bioc\R\bin\R.exe CMD INSTALL --build --library=bambu.buildbin-libdir bambu_3.10.1.tar.gz StartedAt: 2025-08-15 08:47:48 -0400 (Fri, 15 Aug 2025) EndedAt: 2025-08-15 08:49:18 -0400 (Fri, 15 Aug 2025) EllapsedTime: 90.4 seconds RetCode: 0 Status: OK PackageFile: bambu_3.10.1.zip PackageFileSize: 2.155 MiB