Package: bambu Version: 3.10.1 Command: /home/biocbuild/bbs-3.21-bioc/R/bin/R CMD check --install=check:bambu.install-out.txt --library=/home/biocbuild/bbs-3.21-bioc/R/site-library --timings bambu_3.10.1.tar.gz StartedAt: 2025-10-01 20:59:47 -0400 (Wed, 01 Oct 2025) EndedAt: 2025-10-01 21:19:49 -0400 (Wed, 01 Oct 2025) EllapsedTime: 1201.6 seconds RetCode: 0 Status: OK CheckDir: bambu.Rcheck Warnings: 0