Package: ballgown Version: 2.40.0 Command: /Library/Frameworks/R.framework/Resources/bin/R CMD build --keep-empty-dirs --no-resave-data ballgown StartedAt: 2025-10-13 19:25:53 -0400 (Mon, 13 Oct 2025) EndedAt: 2025-10-13 19:26:57 -0400 (Mon, 13 Oct 2025) EllapsedTime: 64.4 seconds RetCode: 0 Status: OK PackageFile: ballgown_2.40.0.tar.gz PackageFileSize: 3.081 MiB