Package: ballgown Version: 2.40.0 Command: rm -rf ballgown.buildbin-libdir && mkdir ballgown.buildbin-libdir && /Users/biocbuild/BBS/utils/build-universal.sh ballgown_2.40.0.tar.gz /Library/Frameworks/R.framework/Resources/bin/R ballgown.buildbin-libdir StartedAt: 2025-10-15 17:28:21 -0400 (Wed, 15 Oct 2025) EndedAt: 2025-10-15 17:29:11 -0400 (Wed, 15 Oct 2025) EllapsedTime: 49.7 seconds RetCode: 0 Status: OK PackageFile: ballgown_2.40.0.tgz PackageFileSize: 3.316 MiB