Package: awst Version: 1.18.0 Command: /home/biocbuild/R/R/bin/R CMD check --install=check:awst.install-out.txt --library=/home/biocbuild/R/R/site-library --no-vignettes --timings awst_1.18.0.tar.gz StartedAt: 2025-11-14 06:50:56 -0000 (Fri, 14 Nov 2025) EndedAt: 2025-11-14 06:53:58 -0000 (Fri, 14 Nov 2025) EllapsedTime: 181.2 seconds RetCode: 0 Status: OK CheckDir: awst.Rcheck Warnings: 0