Package: awst Version: 1.18.0 Command: /home/biocbuild/bbs-3.22-bioc/R/bin/R CMD INSTALL awst StartedAt: 2025-11-05 15:29:11 -0500 (Wed, 05 Nov 2025) EndedAt: 2025-11-05 15:29:30 -0500 (Wed, 05 Nov 2025) EllapsedTime: 19.4 seconds RetCode: 0 Status: OK