Package: awst Version: 1.18.0 Command: /home/biocbuild/bbs-3.22-bioc/R/bin/R CMD build --keep-empty-dirs --no-resave-data --md5 awst StartedAt: 2025-11-05 16:25:50 -0500 (Wed, 05 Nov 2025) EndedAt: 2025-11-05 16:26:35 -0500 (Wed, 05 Nov 2025) EllapsedTime: 45.0 seconds RetCode: 0 Status: OK PackageFile: awst_1.18.0.tar.gz PackageFileSize: 421.8 KiB