Package: attract Version: 1.62.0 Command: /home/biocbuild/bbs-3.22-bioc/R/bin/R CMD INSTALL attract StartedAt: 2025-11-06 15:41:00 -0500 (Thu, 06 Nov 2025) EndedAt: 2025-11-06 15:41:23 -0500 (Thu, 06 Nov 2025) EllapsedTime: 22.3 seconds RetCode: 0 Status: OK