Package: attract Version: 1.60.0 Command: /Library/Frameworks/R.framework/Resources/bin/R CMD INSTALL attract StartedAt: 2025-10-02 16:24:01 -0400 (Thu, 02 Oct 2025) EndedAt: 2025-10-02 16:24:51 -0400 (Thu, 02 Oct 2025) EllapsedTime: 50.7 seconds RetCode: 0 Status: OK