Package: attract Version: 1.60.0 Command: /Library/Frameworks/R.framework/Resources/bin/R CMD check --install=check:attract.install-out.txt --library=/Library/Frameworks/R.framework/Resources/library --no-vignettes --timings attract_1.60.0.tar.gz StartedAt: 2025-10-03 00:11:59 -0400 (Fri, 03 Oct 2025) EndedAt: 2025-10-03 00:22:05 -0400 (Fri, 03 Oct 2025) EllapsedTime: 606.1 seconds RetCode: 0 Status: OK CheckDir: attract.Rcheck Warnings: 0