Package: attract Version: 1.60.0 Command: /Library/Frameworks/R.framework/Resources/bin/R CMD check --install=check:attract.install-out.txt --library=/Library/Frameworks/R.framework/Resources/library --no-vignettes --timings attract_1.60.0.tar.gz StartedAt: 2025-09-26 12:54:42 -0400 (Fri, 26 Sep 2025) EndedAt: 2025-09-26 13:00:03 -0400 (Fri, 26 Sep 2025) EllapsedTime: 320.7 seconds RetCode: 0 Status: OK CheckDir: attract.Rcheck Warnings: 0