Package: atena Version: 1.14.1 Command: /Library/Frameworks/R.framework/Resources/bin/R CMD INSTALL atena StartedAt: 2025-10-13 16:09:41 -0400 (Mon, 13 Oct 2025) EndedAt: 2025-10-13 16:11:08 -0400 (Mon, 13 Oct 2025) EllapsedTime: 87.7 seconds RetCode: 0 Status: OK