Package: atena Version: 1.14.1 Command: /Library/Frameworks/R.framework/Resources/bin/R CMD check --install=check:atena.install-out.txt --library=/Library/Frameworks/R.framework/Resources/library --no-vignettes --timings atena_1.14.1.tar.gz StartedAt: 2025-10-14 00:09:34 -0400 (Tue, 14 Oct 2025) EndedAt: 2025-10-14 00:22:36 -0400 (Tue, 14 Oct 2025) EllapsedTime: 781.5 seconds RetCode: 0 Status: OK CheckDir: atena.Rcheck Warnings: 0