Package: atSNP Version: 1.24.0 Command: /Library/Frameworks/R.framework/Resources/bin/R CMD INSTALL atSNP StartedAt: 2025-10-13 16:35:14 -0400 (Mon, 13 Oct 2025) EndedAt: 2025-10-13 16:37:10 -0400 (Mon, 13 Oct 2025) EllapsedTime: 116.1 seconds RetCode: 0 Status: OK