Package: assorthead Version: 1.4.0 Command: /home/biocbuild/R/R/bin/R CMD INSTALL assorthead StartedAt: 2025-11-20 21:45:15 -0000 (Thu, 20 Nov 2025) EndedAt: 2025-11-20 21:45:33 -0000 (Thu, 20 Nov 2025) EllapsedTime: 18.6 seconds RetCode: 0 Status: OK