Package: assorthead Version: 1.4.0 Command: /home/biocbuild/R/R/bin/R CMD build --keep-empty-dirs --no-resave-data assorthead StartedAt: 2025-11-21 00:13:26 -0000 (Fri, 21 Nov 2025) EndedAt: 2025-11-21 00:13:34 -0000 (Fri, 21 Nov 2025) EllapsedTime: 8.0 seconds RetCode: 0 Status: OK PackageFile: assorthead_1.4.0.tar.gz PackageFileSize: 1.823 MiB