Package: artMS Version: 1.27.0 Command: /home/biocbuild/R/R/bin/R CMD build --keep-empty-dirs --no-resave-data artMS StartedAt: 2025-10-23 21:46:18 -0000 (Thu, 23 Oct 2025) EndedAt: 2025-10-23 21:47:33 -0000 (Thu, 23 Oct 2025) EllapsedTime: 75.0 seconds RetCode: 0 Status: OK PackageFile: artMS_1.27.0.tar.gz PackageFileSize: 3.654 MiB