Package: artMS Version: 1.27.0 Command: chmod a+r artMS -R && F:\biocbuild\bbs-3.22-bioc\R\bin\R.exe CMD build --keep-empty-dirs --no-resave-data artMS StartedAt: 2025-08-14 18:28:36 -0400 (Thu, 14 Aug 2025) EndedAt: 2025-08-14 18:30:02 -0400 (Thu, 14 Aug 2025) EllapsedTime: 85.3 seconds RetCode: 0 Status: OK PackageFile: artMS_1.27.0.tar.gz PackageFileSize: 3.522 MiB