Package: artMS Version: 1.27.0 Command: rm -rf artMS.buildbin-libdir && mkdir artMS.buildbin-libdir && F:\biocbuild\bbs-3.22-bioc\R\bin\R.exe CMD INSTALL --build --library=artMS.buildbin-libdir artMS_1.27.0.tar.gz StartedAt: 2025-08-15 09:44:37 -0400 (Fri, 15 Aug 2025) EndedAt: 2025-08-15 09:45:27 -0400 (Fri, 15 Aug 2025) EllapsedTime: 50.5 seconds RetCode: 0 Status: OK PackageFile: artMS_1.27.0.zip PackageFileSize: 2.874 MiB