Package: artMS Version: 1.28.0 Command: /home/biocbuild/bbs-3.22-bioc/R/bin/R CMD INSTALL artMS StartedAt: 2025-10-31 15:35:21 -0400 (Fri, 31 Oct 2025) EndedAt: 2025-10-31 15:35:53 -0400 (Fri, 31 Oct 2025) EllapsedTime: 32.4 seconds RetCode: 0 Status: OK