Package: artMS Version: 1.28.0 Command: /home/biocbuild/bbs-3.22-bioc/R/bin/R CMD check --install=check:artMS.install-out.txt --library=/home/biocbuild/bbs-3.22-bioc/R/site-library --timings artMS_1.28.0.tar.gz StartedAt: 2025-11-04 21:08:28 -0500 (Tue, 04 Nov 2025) EndedAt: 2025-11-04 21:11:56 -0500 (Tue, 04 Nov 2025) EllapsedTime: 207.3 seconds RetCode: 0 Status: OK CheckDir: artMS.Rcheck Warnings: 0