Package: arrayQualityMetrics Version: 3.64.0 Command: E:\biocbuild\bbs-3.21-bioc\R\bin\R.exe CMD check --no-multiarch --install=check:arrayQualityMetrics.install-out.txt --library=E:\biocbuild\bbs-3.21-bioc\R\library --no-vignettes --timings arrayQualityMetrics_3.64.0.tar.gz StartedAt: 2025-08-14 23:28:43 -0400 (Thu, 14 Aug 2025) EndedAt: 2025-08-14 23:31:50 -0400 (Thu, 14 Aug 2025) EllapsedTime: 186.7 seconds RetCode: 0 Status: OK CheckDir: arrayQualityMetrics.Rcheck Warnings: 0