Package: arrayQuality Version: 1.88.0 Command: /home/biocbuild/bbs-3.22-bioc/R/bin/R CMD INSTALL arrayQuality StartedAt: 2025-11-10 15:09:07 -0500 (Mon, 10 Nov 2025) EndedAt: 2025-11-10 15:09:26 -0500 (Mon, 10 Nov 2025) EllapsedTime: 18.4 seconds RetCode: 0 Status: OK