Package: appreci8R Version: 1.26.0 Command: /Library/Frameworks/R.framework/Resources/bin/R CMD check --install=check:appreci8R.install-out.txt --library=/Library/Frameworks/R.framework/Resources/library --no-vignettes --timings appreci8R_1.26.0.tar.gz StartedAt: 2025-10-14 00:05:00 -0400 (Tue, 14 Oct 2025) EndedAt: 2025-10-14 00:16:57 -0400 (Tue, 14 Oct 2025) EllapsedTime: 716.8 seconds RetCode: 0 Status: OK CheckDir: appreci8R.Rcheck Warnings: 0