Package: appreci8R Version: 1.26.0 Command: rm -rf appreci8R.buildbin-libdir && mkdir appreci8R.buildbin-libdir && /Users/biocbuild/BBS/utils/build-universal.sh appreci8R_1.26.0.tar.gz /Library/Frameworks/R.framework/Resources/bin/R appreci8R.buildbin-libdir StartedAt: 2025-10-14 12:50:42 -0400 (Tue, 14 Oct 2025) EndedAt: 2025-10-14 12:53:25 -0400 (Tue, 14 Oct 2025) EllapsedTime: 163.3 seconds RetCode: 0 Status: OK PackageFile: appreci8R_1.26.0.tgz PackageFileSize: 1.447 MiB