Package: appreci8R Version: 1.26.0 Command: /home/biocbuild/R/R/bin/R CMD check --install=check:appreci8R.install-out.txt --library=/home/biocbuild/R/R/site-library --no-vignettes --timings appreci8R_1.26.0.tar.gz StartedAt: 2025-09-19 06:33:29 -0000 (Fri, 19 Sep 2025) EndedAt: 2025-09-19 06:41:42 -0000 (Fri, 19 Sep 2025) EllapsedTime: 492.7 seconds RetCode: 0 Status: OK CheckDir: appreci8R.Rcheck Warnings: 0