Package: apComplex Version: 2.74.0 Command: E:\biocbuild\bbs-3.21-bioc\R\bin\R.exe CMD check --no-multiarch --install=check:apComplex.install-out.txt --library=E:\biocbuild\bbs-3.21-bioc\R\library --no-vignettes --timings apComplex_2.74.0.tar.gz StartedAt: 2025-08-14 23:27:56 -0400 (Thu, 14 Aug 2025) EndedAt: 2025-08-14 23:30:12 -0400 (Thu, 14 Aug 2025) EllapsedTime: 136.8 seconds RetCode: 0 Status: OK CheckDir: apComplex.Rcheck Warnings: 0