Package: antiProfiles Version: 1.50.0 Command: /home/biocbuild/bbs-3.22-bioc/R/bin/R CMD check --install=check:antiProfiles.install-out.txt --library=/home/biocbuild/bbs-3.22-bioc/R/site-library --timings antiProfiles_1.50.0.tar.gz StartedAt: 2025-11-06 21:03:27 -0500 (Thu, 06 Nov 2025) EndedAt: 2025-11-06 21:03:49 -0500 (Thu, 06 Nov 2025) EllapsedTime: 22.0 seconds RetCode: 0 Status: OK CheckDir: antiProfiles.Rcheck Warnings: 0