Package: anota Version: 1.56.0 Command: /home/biocbuild/bbs-3.21-bioc/R/bin/R CMD build --keep-empty-dirs --no-resave-data anota StartedAt: 2025-10-05 16:11:11 -0400 (Sun, 05 Oct 2025) EndedAt: 2025-10-05 16:11:38 -0400 (Sun, 05 Oct 2025) EllapsedTime: 27.1 seconds RetCode: 0 Status: OK PackageFile: anota_1.56.0.tar.gz PackageFileSize: 942.8 KiB