Package: anota Version: 1.56.0 Command: /Library/Frameworks/R.framework/Resources/bin/R CMD check --install=check:anota.install-out.txt --library=/Library/Frameworks/R.framework/Resources/library --no-vignettes --timings anota_1.56.0.tar.gz StartedAt: 2025-10-03 00:03:47 -0400 (Fri, 03 Oct 2025) EndedAt: 2025-10-03 00:06:21 -0400 (Fri, 03 Oct 2025) EllapsedTime: 153.9 seconds RetCode: 0 Status: OK CheckDir: anota.Rcheck Warnings: 0