Package: anota Version: 1.56.0 Command: /Library/Frameworks/R.framework/Resources/bin/R CMD INSTALL anota StartedAt: 2025-04-21 15:12:34 -0400 (Mon, 21 Apr 2025) EndedAt: 2025-04-21 15:12:52 -0400 (Mon, 21 Apr 2025) EllapsedTime: 18.2 seconds RetCode: 0 Status: OK